BEGIN:VCALENDAR
VERSION:2.0
PRODID:-//KNIHOVNA, KULTURNÍ CENTRUM CHABERSKÝ DVŮR - ECPv6.15.20//NONSGML v1.0//EN
CALSCALE:GREGORIAN
METHOD:PUBLISH
X-WR-CALNAME:KNIHOVNA, KULTURNÍ CENTRUM CHABERSKÝ DVŮR
X-ORIGINAL-URL:https://www.kulturachaberskydvur.cz
X-WR-CALDESC:Akce na KNIHOVNA, KULTURNÍ CENTRUM CHABERSKÝ DVŮR
REFRESH-INTERVAL;VALUE=DURATION:PT1H
X-Robots-Tag:noindex
X-PUBLISHED-TTL:PT1H
BEGIN:VTIMEZONE
TZID:Europe/Prague
BEGIN:DAYLIGHT
TZOFFSETFROM:+0100
TZOFFSETTO:+0200
TZNAME:CEST
DTSTART:20250330T010000
END:DAYLIGHT
BEGIN:STANDARD
TZOFFSETFROM:+0200
TZOFFSETTO:+0100
TZNAME:CET
DTSTART:20251026T010000
END:STANDARD
BEGIN:DAYLIGHT
TZOFFSETFROM:+0100
TZOFFSETTO:+0200
TZNAME:CEST
DTSTART:20260329T010000
END:DAYLIGHT
BEGIN:STANDARD
TZOFFSETFROM:+0200
TZOFFSETTO:+0100
TZNAME:CET
DTSTART:20261025T010000
END:STANDARD
BEGIN:DAYLIGHT
TZOFFSETFROM:+0100
TZOFFSETTO:+0200
TZNAME:CEST
DTSTART:20270328T010000
END:DAYLIGHT
BEGIN:STANDARD
TZOFFSETFROM:+0200
TZOFFSETTO:+0100
TZNAME:CET
DTSTART:20271031T010000
END:STANDARD
END:VTIMEZONE
BEGIN:VEVENT
DTSTART;VALUE=DATE:20260314
DTEND;VALUE=DATE:20260426
DTSTAMP:20260420T105959
CREATED:20260320T074747Z
LAST-MODIFIED:20260409T150928Z
UID:11512-1773446400-1777161599@www.kulturachaberskydvur.cz
SUMMARY:Výstava : Řemesla stále živá
DESCRIPTION:Výstava Vzdělávacího spolku uměleckých řemesel PrahaŘemesla stále živá: Krajky\, tkaní\, drátování. \n			\n				\n				\n				\n				\n				\n\n\nZveme Vás na výstavu Vzdělávacího spolku uměleckých řemesel „Řemesla stále živá“ zveme nyní do Chaberského dvora. K vidění jsou kabelky\, šperky\, textil a další objekty vyrobené tradičními technikami jako je makramé\, mokré plstění\, modrotisk\, drátkování\, ručně šitá krajka či panenky z kukuřicového šustí… Přijďte se pokochat a příjemně velikonočně naladit\, výstava stojí za vidění.  \n\n\n\n			\n				\n				\n				\n				\n				14. 3.–14. 4.PRODLOUŽENO DO 25.4.  \n			\n				\n					\n					\n					\n				\n				\n					\n					\n					\n				\n				\n					\n					\n					\n				\n				\n					\n					\n					\n				\n				\n					\n					\n					\n				\n				\n					\n					\n					\n				\n				\n					\n					\n					\n				\n				\n					\n					\n					\n				\n				\n					\n					\n					\n				\n				\n					\n					\n					\n				\n				\n					\n					\n					\n				\n				\n					\n					\n					\n				\n				\n					\n					\n					\n				\n				\n			\n				\n				\n				\n				\n			\n				\n				\n				\n				\n				\n				\n			\n				\n				\n				\n				\n			\n				\n				\n				\n				\n				\n				\n			\n				\n				\n				\n				\n				\n				KALENDÁŘ AKCÍ
URL:https://www.kulturachaberskydvur.cz/event/vystava-remesla-stale-ziva-2/
CATEGORIES:výstavy
ATTACH;FMTTYPE=image/jpeg:https://www.kulturachaberskydvur.cz/wp-content/uploads/2026/03/IMG_3871.jpeg
END:VEVENT
BEGIN:VEVENT
DTSTART;VALUE=DATE:20260331
DTEND;VALUE=DATE:20260401
DTSTAMP:20260420T105959
CREATED:20260218T114215Z
LAST-MODIFIED:20260218T114219Z
UID:11222-1774915200-1775001599@www.kulturachaberskydvur.cz
SUMMARY:Dvoreček
DESCRIPTION:DVOREČEK \n			\n				\n				\n				\n				\n				\n\n\n\n\nDvoreček probíhá v Chaberském dvoře pravidelně každé úterý dopoledne 9:30–11:00 hod. Prosíme maminky o respektování včasného příchodu v 9:30 hod. \nŠedesátiminutový program nabídne pro děti ve věku 2–4 roky možnost naučit se společně říkadlům a písničkám za pomoci hudebních nástrojů a v přítomnosti svého doprovodu. V pestrém programu nechybí ani protahovací cvičení ani oblíbená výtvarná dílna. Bačkůrky a dobrou náladu sebou. \nRezervace míst je v současné době nutná vzhledem k omezené kapacitě účastníků. Přihlašování na Facebooku ve skupině „Dvorečky Chaberský dvůr“. Vstupné 50 Kč za dítě. \nhttps://www.facebook.com/groups/576374453498345/ \nNa všechny maminky a jejich děti se těší lektorka \nLucie Šulcová.  \n\n\n\n\n\n			\n				\n				\n				\n				\n				Každé úterý 9:30–11:00 hod.\n			\n				\n				\n				\n				\n				\n			\n			\n				\n				\n				\n				\n			\n				\n				\n				\n				\n				\n				\n			\n				\n				\n				\n				\n			\n				\n				\n				\n				\n				\n				\n			\n				\n				\n				\n				\n				\n				KALENDÁŘ AKCÍ
URL:https://www.kulturachaberskydvur.cz/event/dvorecek-145/
CATEGORIES:kulturní akce
ATTACH;FMTTYPE=image/png:https://www.kulturachaberskydvur.cz/wp-content/uploads/2020/08/drak_pruhledne_pozadi_324x180.png
END:VEVENT
BEGIN:VEVENT
DTSTART;TZID=Europe/Prague:20260401T143000
DTEND;TZID=Europe/Prague:20260401T143000
DTSTAMP:20260420T105959
CREATED:20260320T081505Z
LAST-MODIFIED:20260320T081510Z
UID:11533-1775053800-1775053800@www.kulturachaberskydvur.cz
SUMMARY:Kavárnička Chaberský dvůr
DESCRIPTION:Kavárnička Chaberský dvůr \n			\n				\n				\n				\n				\n				\n\n\nU dobré kávy či čaje a něčeho drobného k zakousnutí se v rámci Kavárniček potkáme opět první a třetí středu v měsíci. tradičně od 14:30 hodin. \n\n\n\n			\n				\n				\n				\n				\n				tradičně od 14:30 hodin. \n			\n			\n				\n				\n				\n				\n			\n				\n				\n				\n				\n				\n				\n			\n				\n				\n				\n				\n			\n				\n				\n				\n				\n				\n				\n			\n				\n				\n				\n				\n				\n				KALENDÁŘ AKCÍ
URL:https://www.kulturachaberskydvur.cz/event/kavarnicka-chabersky-dvur-76/
CATEGORIES:kulturní akce
ATTACH;FMTTYPE=image/png:https://www.kulturachaberskydvur.cz/wp-content/uploads/2026/03/Kavarnicky-duben-2026.png
END:VEVENT
BEGIN:VEVENT
DTSTART;VALUE=DATE:20260407
DTEND;VALUE=DATE:20260408
DTSTAMP:20260420T105959
CREATED:20260320T073945Z
LAST-MODIFIED:20260320T073950Z
UID:11504-1775520000-1775606399@www.kulturachaberskydvur.cz
SUMMARY:Dvoreček
DESCRIPTION:DVOREČEK \n			\n				\n				\n				\n				\n				\n\n\n\n\nDvoreček probíhá v Chaberském dvoře pravidelně každé úterý dopoledne 9:30–11:00 hod. Prosíme maminky o respektování včasného příchodu v 9:30 hod. \nŠedesátiminutový program nabídne pro děti ve věku 2–4 roky možnost naučit se společně říkadlům a písničkám za pomoci hudebních nástrojů a v přítomnosti svého doprovodu. V pestrém programu nechybí ani protahovací cvičení ani oblíbená výtvarná dílna. Bačkůrky a dobrou náladu sebou. \nRezervace míst je v současné době nutná vzhledem k omezené kapacitě účastníků. Přihlašování na Facebooku ve skupině „Dvorečky Chaberský dvůr“. Vstupné 50 Kč za dítě. \nhttps://www.facebook.com/groups/576374453498345/ \nNa všechny maminky a jejich děti se těší lektorka \nLucie Šulcová.  \n\n\n\n\n\n			\n				\n				\n				\n				\n				Každé úterý 9:30–11:00 hod.\n			\n				\n				\n				\n				\n				\n			\n			\n				\n				\n				\n				\n			\n				\n				\n				\n				\n				\n				\n			\n				\n				\n				\n				\n			\n				\n				\n				\n				\n				\n				\n			\n				\n				\n				\n				\n				\n				KALENDÁŘ AKCÍ
URL:https://www.kulturachaberskydvur.cz/event/dvorecek-146/
CATEGORIES:kulturní akce
ATTACH;FMTTYPE=image/png:https://www.kulturachaberskydvur.cz/wp-content/uploads/2020/08/drak_pruhledne_pozadi_324x180.png
END:VEVENT
BEGIN:VEVENT
DTSTART;TZID=Europe/Prague:20260408T160000
DTEND;TZID=Europe/Prague:20260408T160000
DTSTAMP:20260420T105959
CREATED:20260320T082023Z
LAST-MODIFIED:20260320T111028Z
UID:11539-1775664000-1775664000@www.kulturachaberskydvur.cz
SUMMARY:Přednáška: Irisdiagnostika | 8. 4. st 17:00 hod.
DESCRIPTION:Přednáška: Irisdiagnostika Jana Vítovcová\, Natur Apatyka \n			\n				\n				\n				\n				\n				\n\n\nPozvánka na přednášku spojenou s následnou besedou nejen pro rodiče dětí\, ale i ostatní dospělé\, které trápí zdravotní problémy. Přednáška seznámí účastníky s metodou irisdiagnostiky. To je způsob diagnostiky celkového stavu organismu přes oční duhovku\, pomáhající odhalit genetické slabosti\, přechodné aktuální stavy i chronické. Cílem IRISDIAGNOSTIKY je především zjištění hlavních příčin konkrétního zdravotního problému\, které orgány nebo systémy jsou oslabené a proč. Případně upozornit na blížící se zdravotní problémy ještě před jejich propuknutím. Na závěr beseda. \nKnihovna\, bez rezervace\, vstupné zdarma. \n\n\n\n			\n				\n				\n				\n				\n				8. 4. st 17:00 hod. \n			\n			\n				\n				\n				\n				\n			\n				\n				\n				\n				\n				\n				\n			\n				\n				\n				\n				\n			\n				\n				\n				\n				\n				\n				\n			\n				\n				\n				\n				\n				\n				KALENDÁŘ AKCÍ
URL:https://www.kulturachaberskydvur.cz/event/prednaska-irisdiagnostika-8-4-st-1700-hod/
CATEGORIES:kulturní akce
ATTACH;FMTTYPE=image/png:https://www.kulturachaberskydvur.cz/wp-content/uploads/2026/03/IRISDIAGNOSTIKA-1.png
END:VEVENT
BEGIN:VEVENT
DTSTART;TZID=Europe/Prague:20260410T140000
DTEND;TZID=Europe/Prague:20260410T140000
DTSTAMP:20260420T105959
CREATED:20260320T082415Z
LAST-MODIFIED:20260320T082420Z
UID:11546-1775829600-1775829600@www.kulturachaberskydvur.cz
SUMMARY:Chabrohrátky
DESCRIPTION:Chabrohrátky \n			\n				\n				\n				\n				\n				\n\n\n\n\nBaví vás deskové hry? Nemáte s kým si zahrát? Máte dotaz na pravidla? Pokud ano\, tak máme dobrou zprávu! Právě pro vás jsou tu naše pravidelné Chabrohrátky. \nPrůvodkyněmi a dobrovolnicemi s jejich pořádáním jsou herní nadšenkyně Lenka Valderová a Marta Litvaj. \nZveme všechny\, kteří mají chuť trávit společně příjemné odpoledne při hraní deskových her a potkat se nebo seznámit s dalšími hráči. \nLucie Šulcová.  \n\n\n\n\n\n			\n				\n				\n				\n				\n				13. 3. pá 14:00 hod. \n			\n			\n				\n				\n				\n				\n			\n				\n				\n				\n				\n				\n				\n			\n				\n				\n				\n				\n			\n				\n				\n				\n				\n				\n				\n			\n				\n				\n				\n				\n				\n				KALENDÁŘ AKCÍ
URL:https://www.kulturachaberskydvur.cz/event/chabrohratky-4/
CATEGORIES:kulturní akce
ATTACH;FMTTYPE=image/png:https://www.kulturachaberskydvur.cz/wp-content/uploads/2026/03/CHABROHRATKY-DUBEN.png
END:VEVENT
BEGIN:VEVENT
DTSTART;VALUE=DATE:20260414
DTEND;VALUE=DATE:20260415
DTSTAMP:20260420T105959
CREATED:20260320T074055Z
LAST-MODIFIED:20260409T151142Z
UID:11506-1776124800-1776211199@www.kulturachaberskydvur.cz
SUMMARY:Dvoreček - NEKONÁ SE
DESCRIPTION:DVOREČEK – NEKONÁ SE \n			\n				\n				\n				\n				\n				\n\n\n\n\nDvoreček probíhá v Chaberském dvoře pravidelně každé úterý dopoledne 9:30–11:00 hod. Prosíme maminky o respektování včasného příchodu v 9:30 hod. \nŠedesátiminutový program nabídne pro děti ve věku 2–4 roky možnost naučit se společně říkadlům a písničkám za pomoci hudebních nástrojů a v přítomnosti svého doprovodu. V pestrém programu nechybí ani protahovací cvičení ani oblíbená výtvarná dílna. Bačkůrky a dobrou náladu sebou. \nRezervace míst je v současné době nutná vzhledem k omezené kapacitě účastníků. Přihlašování na Facebooku ve skupině „Dvorečky Chaberský dvůr“. Vstupné 50 Kč za dítě. \nhttps://www.facebook.com/groups/576374453498345/ \nNa všechny maminky a jejich děti se těší lektorka \nLucie Šulcová.  \n\n\n\n\n\n			\n				\n				\n				\n				\n				Každé úterý 9:30–11:00 hod.\n			\n				\n				\n				\n				\n				\n			\n			\n				\n				\n				\n				\n			\n				\n				\n				\n				\n				\n				\n			\n				\n				\n				\n				\n			\n				\n				\n				\n				\n				\n				\n			\n				\n				\n				\n				\n				\n				KALENDÁŘ AKCÍ
URL:https://www.kulturachaberskydvur.cz/event/dvorecek-147/
CATEGORIES:kulturní akce
ATTACH;FMTTYPE=image/png:https://www.kulturachaberskydvur.cz/wp-content/uploads/2020/08/drak_pruhledne_pozadi_324x180.png
END:VEVENT
BEGIN:VEVENT
DTSTART;TZID=Europe/Prague:20260415T143000
DTEND;TZID=Europe/Prague:20260415T143000
DTSTAMP:20260420T105959
CREATED:20260320T081537Z
LAST-MODIFIED:20260320T081543Z
UID:11537-1776263400-1776263400@www.kulturachaberskydvur.cz
SUMMARY:Kavárnička Chaberský dvůr
DESCRIPTION:Kavárnička Chaberský dvůr \n			\n				\n				\n				\n				\n				\n\n\nU dobré kávy či čaje a něčeho drobného k zakousnutí se v rámci Kavárniček potkáme opět první a třetí středu v měsíci. tradičně od 14:30 hodin. \n\n\n\n			\n				\n				\n				\n				\n				tradičně od 14:30 hodin. \n			\n			\n				\n				\n				\n				\n			\n				\n				\n				\n				\n				\n				\n			\n				\n				\n				\n				\n			\n				\n				\n				\n				\n				\n				\n			\n				\n				\n				\n				\n				\n				KALENDÁŘ AKCÍ
URL:https://www.kulturachaberskydvur.cz/event/kavarnicka-chabersky-dvur-77/
CATEGORIES:kulturní akce
ATTACH;FMTTYPE=image/png:https://www.kulturachaberskydvur.cz/wp-content/uploads/2026/03/Kavarnicky-duben-2026.png
END:VEVENT
BEGIN:VEVENT
DTSTART;TZID=Europe/Prague:20260418T090000
DTEND;TZID=Europe/Prague:20260418T130000
DTSTAMP:20260420T105959
CREATED:20260320T083719Z
LAST-MODIFIED:20260320T083724Z
UID:11559-1776502800-1776517200@www.kulturachaberskydvur.cz
SUMMARY:Reuse day v Dolních Chabrech
DESCRIPTION:Reuse day v Dolních Chabrech \n			\n				\n				\n				\n				\n				Přijďte 18. dubna 2026 na náš Reuse day v Dolních Chabrech pořádaný před knihovnou a jejím předsálí v Chaberském dvoře. \n\nSWAP a sběrné místo\,\nvýroba „travňáčků“ z recyklovatelných kelímků\,\nvýroba záložek ze starých knih\,\nnaučné kvízy.\n\nMáte doma poklady\, které už jen čekají na nový domov? Hračky\, které děti už nebaví? Knížky přečtené tolikrát\, že už je znají zpaměti i sousedi? Oblečení\, které jen čeká na svou druhou šanci? \nTak je nenechávejte ladem – pošlete je dál na SWAP! Stačí přinést věci v množství\, které se vám vejde do dvou tašek\, a můžete si na oplátku odnést něco\, co udělá radost vám. Výměna probíhá úplně zdarma – jen tak\, pro radost a dobrý pocit. Oblečení\, hračky\, knížky vítány. Přineste jen věci\, které jsou čisté\, funkční a připravené na nové dobrodružství. \nVybírané předměty a harmonogram:  \n\npříjem zboží v den konání akce do 11:00 hodin (18. dubna) na místě\noblečení noste čisté\, a takové\, které se dá znovu použít k nošení (dospělé i dětské)\nmaximálně prosíme přinést množství\, které se vám vejde do dvou tašek\n\n​ \n			\n				\n				\n				\n				\n				18. 4. so\, 9:00–13:00 \n			\n			\n				\n				\n				\n				\n			\n				\n				\n				\n				\n				\n				\n			\n				\n				\n				\n				\n			\n				\n				\n				\n				\n				\n				\n			\n				\n				\n				\n				\n				\n				KALENDÁŘ AKCÍ
URL:https://www.kulturachaberskydvur.cz/event/reuse-day-v-dolnich-chabrech-2/
CATEGORIES:kulturní akce
ATTACH;FMTTYPE=image/png:https://www.kulturachaberskydvur.cz/wp-content/uploads/2026/03/Reuse-day-18.04.2026.png
END:VEVENT
BEGIN:VEVENT
DTSTART;TZID=Europe/Prague:20260418T150000
DTEND;TZID=Europe/Prague:20260418T150000
DTSTAMP:20260420T105959
CREATED:20260320T075930Z
LAST-MODIFIED:20260320T080040Z
UID:11527-1776524400-1776524400@www.kulturachaberskydvur.cz
SUMMARY:Pohádka: Včelí medvídci zpívají
DESCRIPTION:Pohádka: Včelí medvídci zpívají \n			\n				\n				\n				\n				\n				\n\n\nPohádková klasika\, s nádherným příběhem\, která se po mnoha letech dočkala nového zpracování. Těšit se můžete nejenom na všechny ty nádherné písničky\, ale také na spoustu kouzelných postaviček. Kromě čmeláka Čmeldy\, uvidíte třeba brouka Kvapníka\, zamilovaného Pučmelouda\, tancující Berušku\, pošťáka Huňáčka\, Babičku\, loupeživého strašáka Čmelobuba\, a také malého čmeláčka Bzumdíka\, který se bude učit létat. Uslyšíte také překrásné\, originální melodie\, které pro naše divadlo složil skladatel Petr Skoumal. Hraje Divadlo Věž\, délka představení 50 min. \nVelký sál\, vstupenky 50 Kč v prodeji před představením\, bez rezervace. \n\n\n\n			\n				\n				\n				\n				\n				18. 4. so 15:00 hod.  \n			\n			\n				\n				\n				\n				\n			\n				\n				\n				\n				\n				\n				\n			\n				\n				\n				\n				\n			\n				\n				\n				\n				\n				\n				\n			\n				\n				\n				\n				\n				\n				KALENDÁŘ AKCÍ
URL:https://www.kulturachaberskydvur.cz/event/pohadka-vceli-medvidci-zpivaji-2/
CATEGORIES:pohádky
ATTACH;FMTTYPE=image/jpeg:https://www.kulturachaberskydvur.cz/wp-content/uploads/2026/03/vceli-medvidci-zpivaji-foto1.jpg
END:VEVENT
BEGIN:VEVENT
DTSTART;VALUE=DATE:20260421
DTEND;VALUE=DATE:20260422
DTSTAMP:20260420T105959
CREATED:20260320T074130Z
LAST-MODIFIED:20260320T074135Z
UID:11508-1776729600-1776815999@www.kulturachaberskydvur.cz
SUMMARY:Dvoreček
DESCRIPTION:DVOREČEK \n			\n				\n				\n				\n				\n				\n\n\n\n\nDvoreček probíhá v Chaberském dvoře pravidelně každé úterý dopoledne 9:30–11:00 hod. Prosíme maminky o respektování včasného příchodu v 9:30 hod. \nŠedesátiminutový program nabídne pro děti ve věku 2–4 roky možnost naučit se společně říkadlům a písničkám za pomoci hudebních nástrojů a v přítomnosti svého doprovodu. V pestrém programu nechybí ani protahovací cvičení ani oblíbená výtvarná dílna. Bačkůrky a dobrou náladu sebou. \nRezervace míst je v současné době nutná vzhledem k omezené kapacitě účastníků. Přihlašování na Facebooku ve skupině „Dvorečky Chaberský dvůr“. Vstupné 50 Kč za dítě. \nhttps://www.facebook.com/groups/576374453498345/ \nNa všechny maminky a jejich děti se těší lektorka \nLucie Šulcová.  \n\n\n\n\n\n			\n				\n				\n				\n				\n				Každé úterý 9:30–11:00 hod.\n			\n				\n				\n				\n				\n				\n			\n			\n				\n				\n				\n				\n			\n				\n				\n				\n				\n				\n				\n			\n				\n				\n				\n				\n			\n				\n				\n				\n				\n				\n				\n			\n				\n				\n				\n				\n				\n				KALENDÁŘ AKCÍ
URL:https://www.kulturachaberskydvur.cz/event/dvorecek-148/
CATEGORIES:kulturní akce
ATTACH;FMTTYPE=image/png:https://www.kulturachaberskydvur.cz/wp-content/uploads/2020/08/drak_pruhledne_pozadi_324x180.png
END:VEVENT
BEGIN:VEVENT
DTSTART;TZID=Europe/Prague:20260422T150000
DTEND;TZID=Europe/Prague:20260422T150000
DTSTAMP:20260420T105959
CREATED:20260320T084616Z
LAST-MODIFIED:20260409T151056Z
UID:11565-1776870000-1776870000@www.kulturachaberskydvur.cz
SUMMARY:Komentovaná prohlídka: Clam-Gallasův palác - KAPACITA NAPLNĚNA
DESCRIPTION:Komentovaná prohlídka: Clam-Gallasův palácKAPACITA NAPLNĚNA \n			\n				\n				\n				\n				\n				\n\n\n\n\nProhlídka nově zrekonstruovaného barokního paláce v centru Starého Města\, postaveného pro jednoho z nejvýznamnějších šlechticů tehdejší doby\, nejvyššího maršálka Království českého\, diplomata\, vyslance a dokonce místokrále\, Jana Václava Gallase. Jakým způsobem reprezentoval svou zemi? Co se od něj očekávalo? Pražský palác odrážel jeho význačné společenské postavení. Kterého architekta si najmul pro tuto stavbu? A kde se v Čechách vlastně vzali Gallasové? Uvidíte i pracovnu\, ve které ministr Rašín podepsal oddělení měny od Rakouska-Uherska a vznik československé koruny. Možná jste kolem paláce mnohokrát prošli bez povšimnutí. Sídlil tam od r. 1945 Archiv hl. města. Po kompletní rekonstrukci a dohledání historických souvislostí vám dnes můžu představit nejlépe stavebně dochované reprezentativní šlechtické sídlo v Praze\, příklad městského paláce vysokého aristokrata. Palácem nás provede Mgr. Dana Kratochvílová. \nPřihlašování v knihovně/KC od 1. 4.\, počet míst omezen\, vstupné 80 Kč. \n\n\n\n\n\n			\n				\n				\n				\n				\n				22. 4. st 15:00 hod. \n			\n			\n				\n				\n				\n				\n			\n				\n				\n				\n				\n				\n				\n			\n				\n				\n				\n				\n			\n				\n				\n				\n				\n				\n				\n			\n				\n				\n				\n				\n				\n				KALENDÁŘ AKCÍ
URL:https://www.kulturachaberskydvur.cz/event/komentovana-prohlidka-clam-gallasuv-palac/
CATEGORIES:kulturní akce
ATTACH;FMTTYPE=image/png:https://www.kulturachaberskydvur.cz/wp-content/uploads/2026/03/Clam-Gallas-duben-1.png
END:VEVENT
BEGIN:VEVENT
DTSTART;TZID=Europe/Prague:20260423T193000
DTEND;TZID=Europe/Prague:20260423T193000
DTSTAMP:20260420T110000
CREATED:20260320T085110Z
LAST-MODIFIED:20260320T085116Z
UID:11574-1776972600-1776972600@www.kulturachaberskydvur.cz
SUMMARY:DIVADLO: Dokonalá svatba
DESCRIPTION:Dokonalá svatba \n  \n			\n				\n				\n				\n				\n				Studio D si vás dovoluje pozvat na reprízu hry Robina Hawdona s názvem Dokonalá svatba (… nebo dokonalá fraška). \nV režii Aleny Borhyové se ve hře představí Jiří Spilka\, Jaroslav Pulec\, Jiří Chytrý\, Alžběta Zídková\, Božena Hrdličková\, Zuzana Mašátová\, Barbora Souchová. \n  \n			\n				\n				\n				\n				\n				23. 4. čt 19:30 \n			\n			\n				\n				\n				\n				\n			\n				\n				\n				\n				\n				\n				\n			\n				\n				\n				\n				\n			\n				\n				\n				\n				\n				\n				\n			\n				\n				\n				\n				\n				\n				KALENDÁŘ AKCÍ
URL:https://www.kulturachaberskydvur.cz/event/divadlo-dokonala-svatba-3/
CATEGORIES:divadlo
ATTACH;FMTTYPE=image/jpeg:https://www.kulturachaberskydvur.cz/wp-content/uploads/2026/03/Dokonala-svatba-23.-4.-2026.jpg
END:VEVENT
BEGIN:VEVENT
DTSTART;TZID=Europe/Prague:20260425T100000
DTEND;TZID=Europe/Prague:20260425T170000
DTSTAMP:20260420T110000
CREATED:20260320T082646Z
LAST-MODIFIED:20260320T111117Z
UID:11550-1777111200-1777136400@www.kulturachaberskydvur.cz
SUMMARY:Hrajeme deskovky
DESCRIPTION:Hrajeme deskovky  \n			\n				\n				\n				\n				\n				\n\n\n\n\nBaví vás deskové hry? Nemáte s kým si zahrát? Máte dotaz na pravidla? Pokud ano\, tak máme dobrou zprávu! Právě pro vás je tu naše hraní deskovek. \nPrůvodkyněmi a dobrovolnicemi s jejich pořádáním jsou herní nadšenkyně Lenka Valderová a Marta Litvaj. \nZveme všechny\, kteří mají chuť trávit společně příjemné odpoledne při hraní deskových her a potkat se nebo seznámit s dalšími hráči. \n\n\n\n\n\n			\n				\n				\n				\n				\n				25. 4. so 10:00–17:00 \n			\n			\n				\n				\n				\n				\n			\n				\n				\n				\n				\n				\n				\n			\n				\n				\n				\n				\n			\n				\n				\n				\n				\n				\n				\n			\n				\n				\n				\n				\n				\n				KALENDÁŘ AKCÍ
URL:https://www.kulturachaberskydvur.cz/event/hrajeme-deskovky-4/
CATEGORIES:kulturní akce
ATTACH;FMTTYPE=image/png:https://www.kulturachaberskydvur.cz/wp-content/uploads/2026/03/SOBOTA-duben.png
END:VEVENT
BEGIN:VEVENT
DTSTART;TZID=Europe/Prague:20260426T190000
DTEND;TZID=Europe/Prague:20260426T190000
DTSTAMP:20260420T110000
CREATED:20260320T111705Z
LAST-MODIFIED:20260320T111709Z
UID:11609-1777230000-1777230000@www.kulturachaberskydvur.cz
SUMMARY:Divadlo DIVOCH: Tik Tak
DESCRIPTION:Divadlo DIVOCH: Tik Tak \n			\n				\n				\n				\n				\n				\n\n\n\n\nDIVOCH – Divadelní ochotníci chaberští si vás dovolují pozvat na reprízu hry z pera dramatika Laurenta Baffie s názvem TIK TAK. \nV režii Ivany Fára se se ve hře představí Igor Gottwald\, Hana Pištorová\, Andrea Hašlar\, Věra Malinová\, Jozef Mitošinka\, Pavel Fára a Ivana Fára.Velký sál\, vstupenky v prodeji v KC/knihovně. \n  \n\n\n\n\n\n			\n				\n				\n				\n				\n				26. 4. ne 19:00 \n			\n			\n				\n				\n				\n				\n			\n				\n				\n				\n				\n				\n				\n			\n				\n				\n				\n				\n			\n				\n				\n				\n				\n				\n				\n			\n				\n				\n				\n				\n				\n				KALENDÁŘ AKCÍ
URL:https://www.kulturachaberskydvur.cz/event/divadlo-divoch-tik-tak-5/
CATEGORIES:divadlo
ATTACH;FMTTYPE=image/jpeg:https://www.kulturachaberskydvur.cz/wp-content/uploads/2026/03/Kopie-navrhu-TIK-TIK.jpeg
END:VEVENT
BEGIN:VEVENT
DTSTART;VALUE=DATE:20260428
DTEND;VALUE=DATE:20260429
DTSTAMP:20260420T110000
CREATED:20260320T074155Z
LAST-MODIFIED:20260320T074201Z
UID:11510-1777334400-1777420799@www.kulturachaberskydvur.cz
SUMMARY:Dvoreček
DESCRIPTION:DVOREČEK \n			\n				\n				\n				\n				\n				\n\n\n\n\nDvoreček probíhá v Chaberském dvoře pravidelně každé úterý dopoledne 9:30–11:00 hod. Prosíme maminky o respektování včasného příchodu v 9:30 hod. \nŠedesátiminutový program nabídne pro děti ve věku 2–4 roky možnost naučit se společně říkadlům a písničkám za pomoci hudebních nástrojů a v přítomnosti svého doprovodu. V pestrém programu nechybí ani protahovací cvičení ani oblíbená výtvarná dílna. Bačkůrky a dobrou náladu sebou. \nRezervace míst je v současné době nutná vzhledem k omezené kapacitě účastníků. Přihlašování na Facebooku ve skupině „Dvorečky Chaberský dvůr“. Vstupné 50 Kč za dítě. \nhttps://www.facebook.com/groups/576374453498345/ \nNa všechny maminky a jejich děti se těší lektorka \nLucie Šulcová.  \n\n\n\n\n\n			\n				\n				\n				\n				\n				Každé úterý 9:30–11:00 hod.\n			\n				\n				\n				\n				\n				\n			\n			\n				\n				\n				\n				\n			\n				\n				\n				\n				\n				\n				\n			\n				\n				\n				\n				\n			\n				\n				\n				\n				\n				\n				\n			\n				\n				\n				\n				\n				\n				KALENDÁŘ AKCÍ
URL:https://www.kulturachaberskydvur.cz/event/dvorecek-149/
CATEGORIES:kulturní akce
ATTACH;FMTTYPE=image/png:https://www.kulturachaberskydvur.cz/wp-content/uploads/2020/08/drak_pruhledne_pozadi_324x180.png
END:VEVENT
BEGIN:VEVENT
DTSTART;TZID=Europe/Prague:20260428T180000
DTEND;TZID=Europe/Prague:20260428T180000
DTSTAMP:20260420T110000
CREATED:20260320T090218Z
LAST-MODIFIED:20260320T090503Z
UID:11581-1777399200-1777399200@www.kulturachaberskydvur.cz
SUMMARY:Josef Formánek: Cesty vnější a vnitřní
DESCRIPTION:Josef Formánek: Cesty vnější a vnitřní \n			\n				\n				\n				\n				\n				\n\n\n\n\nAutorské čtení\, promítání filmů\, diapozitivů a povídání spisovatele Josefa Formánka o pralese\, šamanech\, pití i nepití\, okamžiku rozhodnutí a též o jeho pouti do Assisi. \nBeseda nabídne inspirativní putování krajinou světa i lidské duše. Autor známých knih (Prsatý muž a zloděj příběhů\, Úsměvy smutných mužů\, Dvě slova jako klíč) přiblíží své skutečné cesty do exotických zemí i ty mnohem náročnější – cesty k sobě samému. Program propojuje vyprávění o dobrodružstvích\, setkáních s odlišnými kulturami a hledání smyslu života s otevřeným sdílením osobních zkušeností\, včetně témat závislosti\, pádu i znovunalezení vnitřní rovnováhy. Setkání je určeno všem\, kteří rádi cestují – ať už po světě\, nebo do hlubin vlastního nitra – a hledají inspiraci\, odvahu a naději. Po skončení pořadu autogramiáda. \nVelký sál\, vstupenky 100 Kč v prodeji od 6. 3. v KC/knihovně. \n\n\n\n\n\n			\n				\n				\n				\n				\n				28. 4. út 18:00 hod.  \n			\n			\n				\n				\n				\n				\n			\n				\n				\n				\n				\n				\n				\n			\n				\n				\n				\n				\n			\n				\n				\n				\n				\n				\n				\n			\n				\n				\n				\n				\n				\n				KALENDÁŘ AKCÍ
URL:https://www.kulturachaberskydvur.cz/event/josef-formanek-cesty-vnejsi-a-vnitrni/
CATEGORIES:kulturní akce
ATTACH;FMTTYPE=image/png:https://www.kulturachaberskydvur.cz/wp-content/uploads/2026/03/Formanek-letacek-Dolni-Chabry.png
END:VEVENT
BEGIN:VEVENT
DTSTART;TZID=Europe/Prague:20260429T180000
DTEND;TZID=Europe/Prague:20260429T180000
DTSTAMP:20260420T110000
CREATED:20260320T090739Z
LAST-MODIFIED:20260320T090747Z
UID:11595-1777485600-1777485600@www.kulturachaberskydvur.cz
SUMMARY:Přednáška: Co se děje za displejem
DESCRIPTION:Přednáška: Rodičovství v digitální době. Co se děje za displejem?  \n			\n				\n				\n				\n				\n				\n\n\n\n\nInternet je přirozenou součástí života našich dětí – učí se v něm\, baví se i navazují vztahy. Jaká rizika dnes skutečně řeší? Jak s nimi o online světe komunikovat? A jak do jejich světa vstupuje umělá inteligence? Beseda nabídne srozumitelný přehled aktuálních rizik\, nejvyužívanějších sociálních sítí\, praktické tipy do rodiny i prostor pro otázky a sdílení zkušeností. \nMgr. Tereza Faladová\, gestorka prevence kybernetické kriminality odboru prevence kriminality Ministerstva vnitra\, se věnuje systematické prevenci kriminality se zaměřením na aktuální hrozby v online prostředí. V rámci své gesce rozvíjí přístupy k prevenci kyberkriminality\, podílí se na tvorbě metodických a vzdělávacích materiálů a preventivních kampaní zaměřených na širokou veřejnost a spolupracuje s odborníky z veřejné správy\, akademické i soukromé sféry i bezpečnostních složek na zvyšování digitální gramotnosti a bezpečnosti. \nKnihovna\, vhodné pro rodiče\, vstup zdarma. \nAlena Wachtlová \n\n\n\n\n\n			\n				\n				\n				\n				\n				29. 4. st 18:00 hod. \n			\n			\n				\n				\n				\n				\n			\n				\n				\n				\n				\n				\n				\n			\n				\n				\n				\n				\n			\n				\n				\n				\n				\n				\n				\n			\n				\n				\n				\n				\n				\n				KALENDÁŘ AKCÍ
URL:https://www.kulturachaberskydvur.cz/event/prednaska-co-se-deje-za-displejem/
CATEGORIES:kulturní akce
ATTACH;FMTTYPE=image/png:https://www.kulturachaberskydvur.cz/wp-content/uploads/2026/03/PREDNASKA-AI.png
END:VEVENT
BEGIN:VEVENT
DTSTART;TZID=Europe/Prague:20260506T150000
DTEND;TZID=Europe/Prague:20260506T150000
DTSTAMP:20260420T110000
CREATED:20260409T135554Z
LAST-MODIFIED:20260409T135559Z
UID:11616-1778079600-1778079600@www.kulturachaberskydvur.cz
SUMMARY:Komentovaná prohlídka výstavy: SOŇA ČERVENÁ
DESCRIPTION:Komentovaná prohlídka výstavy: SOŇA ČERVENÁ \n			\n				\n				\n				\n				\n				\n\n\n\n\nVýstava v Českém muzeu hudby je věnována jedné z nejvýznamnějších osobností české i světové hudební scény operní pěvkyni Soně Červené u příležitosti stého výročí jejího narození. Tento projekt nabízí jedinečný pohled na život a tvorbu umělkyně\, která svou mimořádnou barvou hlasu\, širokým hlasovým rozsahem a nezaměnitelným charismatem ovlivnila pěvecké umění po celém světě. Můžete se těšit na bohatou sbírku více než 200 exponátů pocházejících ze sbírek Národního muzea – Českého muzea hudby a Nadace Soni Červené\, které zahrnují osobní předměty\, divadelní kostýmy od špičkových návrhářů\, archivní fotografie\, audio a video záznamy i unikátní dokumenty z její životní i profesionální dráhy. Registrace a podrobné informace v KC/knihovně od 14. 4. Vstup zdarma. \n\n\n\n\n\n			\n				\n				\n				\n				\n				6. 5. st 15:00 hod.  \n			\n			\n				\n				\n				\n				\n			\n				\n				\n				\n				\n				\n				\n			\n				\n				\n				\n				\n			\n				\n				\n				\n				\n				\n				\n			\n				\n				\n				\n				\n				\n				KALENDÁŘ AKCÍ
URL:https://www.kulturachaberskydvur.cz/event/komentovana-prohlidka-vystavy-sona-cervena/
CATEGORIES:kulturní akce
ATTACH;FMTTYPE=image/png:https://www.kulturachaberskydvur.cz/wp-content/uploads/2026/04/Sona-kveten-1.png
END:VEVENT
END:VCALENDAR