BEGIN:VCALENDAR
VERSION:2.0
PRODID:-//KNIHOVNA, KULTURNÍ CENTRUM CHABERSKÝ DVŮR - ECPv6.15.20//NONSGML v1.0//EN
CALSCALE:GREGORIAN
METHOD:PUBLISH
X-WR-CALNAME:KNIHOVNA, KULTURNÍ CENTRUM CHABERSKÝ DVŮR
X-ORIGINAL-URL:https://www.kulturachaberskydvur.cz
X-WR-CALDESC:Akce na KNIHOVNA, KULTURNÍ CENTRUM CHABERSKÝ DVŮR
REFRESH-INTERVAL;VALUE=DURATION:PT1H
X-Robots-Tag:noindex
X-PUBLISHED-TTL:PT1H
BEGIN:VTIMEZONE
TZID:Europe/Prague
BEGIN:DAYLIGHT
TZOFFSETFROM:+0100
TZOFFSETTO:+0200
TZNAME:CEST
DTSTART:20250330T010000
END:DAYLIGHT
BEGIN:STANDARD
TZOFFSETFROM:+0200
TZOFFSETTO:+0100
TZNAME:CET
DTSTART:20251026T010000
END:STANDARD
BEGIN:DAYLIGHT
TZOFFSETFROM:+0100
TZOFFSETTO:+0200
TZNAME:CEST
DTSTART:20260329T010000
END:DAYLIGHT
BEGIN:STANDARD
TZOFFSETFROM:+0200
TZOFFSETTO:+0100
TZNAME:CET
DTSTART:20261025T010000
END:STANDARD
BEGIN:DAYLIGHT
TZOFFSETFROM:+0100
TZOFFSETTO:+0200
TZNAME:CEST
DTSTART:20270328T010000
END:DAYLIGHT
BEGIN:STANDARD
TZOFFSETFROM:+0200
TZOFFSETTO:+0100
TZNAME:CET
DTSTART:20271031T010000
END:STANDARD
END:VTIMEZONE
BEGIN:VEVENT
DTSTART;VALUE=DATE:20260303
DTEND;VALUE=DATE:20260304
DTSTAMP:20260420T091938
CREATED:20260218T101903Z
LAST-MODIFIED:20260218T101907Z
UID:11217-1772496000-1772582399@www.kulturachaberskydvur.cz
SUMMARY:Dvoreček
DESCRIPTION:DVOREČEK \n			\n				\n				\n				\n				\n				\n\n\n\n\nDvoreček probíhá v Chaberském dvoře pravidelně každé úterý dopoledne 9:30–11:00 hod. Prosíme maminky o respektování včasného příchodu v 9:30 hod. \nŠedesátiminutový program nabídne pro děti ve věku 2–4 roky možnost naučit se společně říkadlům a písničkám za pomoci hudebních nástrojů a v přítomnosti svého doprovodu. V pestrém programu nechybí ani protahovací cvičení ani oblíbená výtvarná dílna. Bačkůrky a dobrou náladu sebou. \nRezervace míst je v současné době nutná vzhledem k omezené kapacitě účastníků. Přihlašování na Facebooku ve skupině „Dvorečky Chaberský dvůr“. Vstupné 50 Kč za dítě. \nhttps://www.facebook.com/groups/576374453498345/ \nNa všechny maminky a jejich děti se těší lektorka \nLucie Šulcová.  \n\n\n\n\n\n			\n				\n				\n				\n				\n				Každé úterý 9:30–11:00 hod.\n			\n				\n				\n				\n				\n				\n			\n			\n				\n				\n				\n				\n			\n				\n				\n				\n				\n				\n				\n			\n				\n				\n				\n				\n			\n				\n				\n				\n				\n				\n				\n			\n				\n				\n				\n				\n				\n				KALENDÁŘ AKCÍ
URL:https://www.kulturachaberskydvur.cz/event/dvorecek-143/
CATEGORIES:kulturní akce
ATTACH;FMTTYPE=image/png:https://www.kulturachaberskydvur.cz/wp-content/uploads/2020/08/drak_pruhledne_pozadi_324x180.png
END:VEVENT
BEGIN:VEVENT
DTSTART;TZID=Europe/Prague:20260304T143000
DTEND;TZID=Europe/Prague:20260304T143000
DTSTAMP:20260420T091938
CREATED:20260218T120828Z
LAST-MODIFIED:20260218T120834Z
UID:11233-1772634600-1772634600@www.kulturachaberskydvur.cz
SUMMARY:Kavárnička Chaberský dvůr
DESCRIPTION:Kavárnička Chaberský dvůr \n			\n				\n				\n				\n				\n				\n\n\nU dobré kávy či čaje a něčeho drobného k zakousnutí se v rámci Kavárniček potkáme opět první a třetí středu v měsíci. tradičně od 14:30 hodin. \n\n\n\n			\n				\n				\n				\n				\n				tradičně od 14:30 hodin. \n			\n			\n				\n				\n				\n				\n			\n				\n				\n				\n				\n				\n				\n			\n				\n				\n				\n				\n			\n				\n				\n				\n				\n				\n				\n			\n				\n				\n				\n				\n				\n				KALENDÁŘ AKCÍ
URL:https://www.kulturachaberskydvur.cz/event/kavarnicka-chabersky-dvur-74/
CATEGORIES:kulturní akce
ATTACH;FMTTYPE=image/png:https://www.kulturachaberskydvur.cz/wp-content/uploads/2026/02/Kavarnicky-brezen-2026.png
END:VEVENT
BEGIN:VEVENT
DTSTART;TZID=Europe/Prague:20260305T190000
DTEND;TZID=Europe/Prague:20260305T190000
DTSTAMP:20260420T091938
CREATED:20260218T121134Z
LAST-MODIFIED:20260218T121140Z
UID:11238-1772737200-1772737200@www.kulturachaberskydvur.cz
SUMMARY:Festival amatérských divadel: Slavnostní zahájení festivalu a Divadlo SoLiTEAter – ŽID
DESCRIPTION:Festival amatérských divadel: Slavnostní zahájení festivalu a Divadlo SoLiTEAter – ŽID \n			\n				\n				\n				\n				\n				\n\n\nStudio D vás zve na Březnový festival amatérských divadel v Dolních Chabrech. \nVe čtvrtek 5. března 2026 od 19:00 hodin proběhne Slavnostní zahájení festivalu a představí se Divadlo SoLiTEAter s hrou ŽID. \nČeká vás nesoutěžní přátelské setkání amatérských souborů v Chaberském dvoře na Hrušovanském náměstí 253/5 v Dolních Chabrech. \nVstupenky na jednotlivá představení budou v prodeji od 3. února v pokladně Chaberského dvora za 150 Kč (100 Kč senioři) na jednotlivá představení. Telefon pro rezervaci: 283 852 858. \nAnotace:\nDivadlo SoLiTEAter připravilo ve své produkci další českou premiéru úspěšného zahraničního titulu\, a to inscenaci černé komedie ŽID od Gianni Clementiho. \n„Vidíš? Ty chceš dycky něco za něco!“ Je pár let po skončení 2. světové války. Marcello Consalvi\, movitý majitel římských realit\, a jeho žena Immacolata právě vypravili svoji jedinou dceru Elenu na luxusní svatební cestu. Jejich blahobytný život se zdá být neotřesitelný\, jenže pak někdo zazvoní u dveří a není to jen Tito\, Marcellův kamarád z mokré čtvrti. \n\n\n\n			\n				\n				\n				\n				\n				05.03.2026 19:00 \n			\n			\n				\n				\n				\n				\n			\n				\n				\n				\n				\n				\n				\n			\n				\n				\n				\n				\n			\n				\n				\n				\n				\n				\n				\n			\n				\n				\n				\n				\n				\n				KALENDÁŘ AKCÍ
URL:https://www.kulturachaberskydvur.cz/event/festival-amaterskych-divadel-slavnostni-zahajeni-festivalu-a-divadlo-soliteater-zid/
CATEGORIES:kulturní akce
ATTACH;FMTTYPE=image/png:https://www.kulturachaberskydvur.cz/wp-content/uploads/2026/02/divadlo_soliteater_05.03.2026.png
END:VEVENT
BEGIN:VEVENT
DTSTART;VALUE=DATE:20260310
DTEND;VALUE=DATE:20260311
DTSTAMP:20260420T091938
CREATED:20260218T101623Z
LAST-MODIFIED:20260218T101715Z
UID:11215-1773100800-1773187199@www.kulturachaberskydvur.cz
SUMMARY:Dvoreček
DESCRIPTION:DVOREČEK \n			\n				\n				\n				\n				\n				\n\n\n\n\nDvoreček probíhá v Chaberském dvoře pravidelně každé úterý dopoledne 9:30–11:00 hod. Prosíme maminky o respektování včasného příchodu v 9:30 hod. \nŠedesátiminutový program nabídne pro děti ve věku 2–4 roky možnost naučit se společně říkadlům a písničkám za pomoci hudebních nástrojů a v přítomnosti svého doprovodu. V pestrém programu nechybí ani protahovací cvičení ani oblíbená výtvarná dílna. Bačkůrky a dobrou náladu sebou. \nRezervace míst je v současné době nutná vzhledem k omezené kapacitě účastníků. Přihlašování na Facebooku ve skupině „Dvorečky Chaberský dvůr“. Vstupné 50 Kč za dítě. \nhttps://www.facebook.com/groups/576374453498345/ \nNa všechny maminky a jejich děti se těší lektorka \nLucie Šulcová.  \n\n\n\n\n\n			\n				\n				\n				\n				\n				Každé úterý 9:30–11:00 hod.\n			\n				\n				\n				\n				\n				\n			\n			\n				\n				\n				\n				\n			\n				\n				\n				\n				\n				\n				\n			\n				\n				\n				\n				\n			\n				\n				\n				\n				\n				\n				\n			\n				\n				\n				\n				\n				\n				KALENDÁŘ AKCÍ
URL:https://www.kulturachaberskydvur.cz/event/dvorecek-142/
CATEGORIES:kulturní akce
ATTACH;FMTTYPE=image/png:https://www.kulturachaberskydvur.cz/wp-content/uploads/2020/08/drak_pruhledne_pozadi_324x180.png
END:VEVENT
BEGIN:VEVENT
DTSTART;TZID=Europe/Prague:20260310T153000
DTEND;TZID=Europe/Prague:20260310T160000
DTSTAMP:20260420T091938
CREATED:20260218T123956Z
LAST-MODIFIED:20260218T124001Z
UID:11299-1773156600-1773158400@www.kulturachaberskydvur.cz
SUMMARY:Workshop: Lapač snů
DESCRIPTION:Workshop: Lapač snů \n			\n				\n				\n				\n				\n				\n\n\n\n\nPřijďte si vyrobit lapač zlých snů. Na workshop se přihlašujte osobně\, e-mailem nebo telefonicky v knihovně. V ceně vstupného 60 Kč je zahrnut materiál na jeden výrobek. \n\n\n\n\n\n			\n				\n				\n				\n				\n				10. 3. út 16:00 hod. \n			\n			\n				\n				\n				\n				\n			\n				\n				\n				\n				\n				\n				\n			\n				\n				\n				\n				\n			\n				\n				\n				\n				\n				\n				\n			\n				\n				\n				\n				\n				\n				KALENDÁŘ AKCÍ
URL:https://www.kulturachaberskydvur.cz/event/workshop-lapac-snu-3/
CATEGORIES:kulturní akce
ATTACH;FMTTYPE=image/png:https://www.kulturachaberskydvur.cz/wp-content/uploads/2026/02/lapac-snu.png
END:VEVENT
BEGIN:VEVENT
DTSTART;TZID=Europe/Prague:20260312T193000
DTEND;TZID=Europe/Prague:20260312T193000
DTSTAMP:20260420T091938
CREATED:20260218T121318Z
LAST-MODIFIED:20260218T121623Z
UID:11246-1773343800-1773343800@www.kulturachaberskydvur.cz
SUMMARY:Festival amatérských divadel: Nepřijatelní – Mesiáš 16.0
DESCRIPTION:Festival amatérských divadel: Nepřijatelní – Mesiáš 16.0 \n			\n				\n				\n				\n				\n				\n\n\nStudio D vás zve na Březnový festival amatérských divadel v Dolních Chabrech. \nVe čtvrtek 12. března 2026 od 19:30 hodin se můžete těšit na divadelní soubor Nepřijatelní s hrou Mesiáš 16.0. \nČeká vás nesoutěžní přátelské setkání amatérských souborů v Chaberském dvoře na Hrušovanském náměstí 253/5 v Dolních Chabrech. \nVstupenky na jednotlivá představení budou v prodeji od 3. února v pokladně Chaberského dvora za 150 Kč (100 Kč senioři) na jednotlivá představení. Telefon pro rezervaci: 283 852 858. \nAnotace:\nDivadelní soubor Nepřijatelní si připravil autorskou satiru na velmi aktuální téma. Svět potřebuje spásu\, ale nevěří. Stihne dorazit nový mesiáš\, než paní Nováková rozsype manžela? A koupí už konečně někdo do Papamobilu židli? Ty nejdůležitější otázky našeho bytí položené umělé inteligenci na Vašem jevišti! \n\n\n\n			\n				\n				\n				\n				\n				12.03.2026 19:30 \n			\n			\n				\n				\n				\n				\n			\n				\n				\n				\n				\n				\n				\n			\n				\n				\n				\n				\n			\n				\n				\n				\n				\n				\n				\n			\n				\n				\n				\n				\n				\n				KALENDÁŘ AKCÍ
URL:https://www.kulturachaberskydvur.cz/event/festival-amaterskych-divadel-neprijatelni-mesias-16-0/
CATEGORIES:kulturní akce
ATTACH;FMTTYPE=image/png:https://www.kulturachaberskydvur.cz/wp-content/uploads/2026/02/ds_neprijatelni_12.03.2026.png
END:VEVENT
BEGIN:VEVENT
DTSTART;TZID=Europe/Prague:20260313T140000
DTEND;TZID=Europe/Prague:20260313T140000
DTSTAMP:20260420T091938
CREATED:20260218T123247Z
LAST-MODIFIED:20260218T123251Z
UID:11288-1773410400-1773410400@www.kulturachaberskydvur.cz
SUMMARY:Chabrohrátky
DESCRIPTION:Chabrohrátky \n			\n				\n				\n				\n				\n				\n\n\n\n\nBaví vás deskové hry? Nemáte s kým si zahrát? Máte dotaz na pravidla? Pokud ano\, tak máme dobrou zprávu! Právě pro vás jsou tu naše pravidelné Chabrohrátky. \nPrůvodkyněmi a dobrovolnicemi s jejich pořádáním jsou herní nadšenkyně Lenka Valderová a Marta Litvaj. \nZveme všechny\, kteří mají chuť trávit společně příjemné odpoledne při hraní deskových her a potkat se nebo seznámit s dalšími hráči. \nLucie Šulcová.  \n\n\n\n\n\n			\n				\n				\n				\n				\n				13. 3. pá 14:00 hod. \n			\n			\n				\n				\n				\n				\n			\n				\n				\n				\n				\n				\n				\n			\n				\n				\n				\n				\n			\n				\n				\n				\n				\n				\n				\n			\n				\n				\n				\n				\n				\n				KALENDÁŘ AKCÍ
URL:https://www.kulturachaberskydvur.cz/event/chabrohratky-3/
CATEGORIES:kulturní akce
ATTACH;FMTTYPE=image/png:https://www.kulturachaberskydvur.cz/wp-content/uploads/2026/02/BREZEN-2026.png
END:VEVENT
BEGIN:VEVENT
DTSTART;VALUE=DATE:20260314
DTEND;VALUE=DATE:20260426
DTSTAMP:20260420T091938
CREATED:20260320T074747Z
LAST-MODIFIED:20260409T150928Z
UID:11512-1773446400-1777161599@www.kulturachaberskydvur.cz
SUMMARY:Výstava : Řemesla stále živá
DESCRIPTION:Výstava Vzdělávacího spolku uměleckých řemesel PrahaŘemesla stále živá: Krajky\, tkaní\, drátování. \n			\n				\n				\n				\n				\n				\n\n\nZveme Vás na výstavu Vzdělávacího spolku uměleckých řemesel „Řemesla stále živá“ zveme nyní do Chaberského dvora. K vidění jsou kabelky\, šperky\, textil a další objekty vyrobené tradičními technikami jako je makramé\, mokré plstění\, modrotisk\, drátkování\, ručně šitá krajka či panenky z kukuřicového šustí… Přijďte se pokochat a příjemně velikonočně naladit\, výstava stojí za vidění.  \n\n\n\n			\n				\n				\n				\n				\n				14. 3.–14. 4.PRODLOUŽENO DO 25.4.  \n			\n				\n					\n					\n					\n				\n				\n					\n					\n					\n				\n				\n					\n					\n					\n				\n				\n					\n					\n					\n				\n				\n					\n					\n					\n				\n				\n					\n					\n					\n				\n				\n					\n					\n					\n				\n				\n					\n					\n					\n				\n				\n					\n					\n					\n				\n				\n					\n					\n					\n				\n				\n					\n					\n					\n				\n				\n					\n					\n					\n				\n				\n					\n					\n					\n				\n				\n			\n				\n				\n				\n				\n			\n				\n				\n				\n				\n				\n				\n			\n				\n				\n				\n				\n			\n				\n				\n				\n				\n				\n				\n			\n				\n				\n				\n				\n				\n				KALENDÁŘ AKCÍ
URL:https://www.kulturachaberskydvur.cz/event/vystava-remesla-stale-ziva-2/
CATEGORIES:výstavy
ATTACH;FMTTYPE=image/jpeg:https://www.kulturachaberskydvur.cz/wp-content/uploads/2026/03/IMG_3871.jpeg
END:VEVENT
BEGIN:VEVENT
DTSTART;TZID=Europe/Prague:20260316T150000
DTEND;TZID=Europe/Prague:20260316T150000
DTSTAMP:20260420T091938
CREATED:20260218T123002Z
LAST-MODIFIED:20260224T125729Z
UID:11282-1773673200-1773673200@www.kulturachaberskydvur.cz
SUMMARY:Komentovaná prohlídka: Stavovské divadlo
DESCRIPTION:Komentovaná prohlídka: Stavovské divadlo  \n			\n				\n				\n				\n				\n				\n\n\nStavovské divadlo je jednou z nejkrásnějších divadelních budov Evropy. Je nerozlučně spjato s působením hudebních géniů jako je W. A. Mozart\, Carl Maria von Weber\, Gustav Mahler či Nicolo Paganini. Do jeho historie se však zapsali i slavní Češi jako spisovatel Karel Čapek\, dramatik Milan Kundera nebo režisér Miloš Forman. Právě o těchto osobnostech\, ale i mnoho dalších zajímavostí z historie i současnosti se dozvíte od našich zasvěcených průvodců. Prohlídkový okruh začíná ve vstupní hale\, pokračuje v hledišti\, Mozartově salonku a končí v centrální šatně. Přihlašování v knihovně/KC\, počet míst omezen\, vstup zdarma. \nPřihlásit se je možné od 3.3.2026 v KC/knihovně \n\n\n\n			\n				\n				\n				\n				\n				16. 3. po 15:00 hod. \n			\n			\n				\n				\n				\n				\n			\n				\n				\n				\n				\n				\n				\n			\n				\n				\n				\n				\n			\n				\n				\n				\n				\n				\n				\n			\n				\n				\n				\n				\n				\n				KALENDÁŘ AKCÍ
URL:https://www.kulturachaberskydvur.cz/event/komentovana-prohlidka-stavovske-divadlo/
CATEGORIES:kulturní akce
ATTACH;FMTTYPE=image/png:https://www.kulturachaberskydvur.cz/wp-content/uploads/2026/02/Stavovske-div.-brezen-.png
END:VEVENT
BEGIN:VEVENT
DTSTART;VALUE=DATE:20260317
DTEND;VALUE=DATE:20260318
DTSTAMP:20260420T091938
CREATED:20260218T113955Z
LAST-MODIFIED:20260218T113959Z
UID:11220-1773705600-1773791999@www.kulturachaberskydvur.cz
SUMMARY:Dvoreček
DESCRIPTION:DVOREČEK \n			\n				\n				\n				\n				\n				\n\n\n\n\nDvoreček probíhá v Chaberském dvoře pravidelně každé úterý dopoledne 9:30–11:00 hod. Prosíme maminky o respektování včasného příchodu v 9:30 hod. \nŠedesátiminutový program nabídne pro děti ve věku 2–4 roky možnost naučit se společně říkadlům a písničkám za pomoci hudebních nástrojů a v přítomnosti svého doprovodu. V pestrém programu nechybí ani protahovací cvičení ani oblíbená výtvarná dílna. Bačkůrky a dobrou náladu sebou. \nRezervace míst je v současné době nutná vzhledem k omezené kapacitě účastníků. Přihlašování na Facebooku ve skupině „Dvorečky Chaberský dvůr“. Vstupné 50 Kč za dítě. \nhttps://www.facebook.com/groups/576374453498345/ \nNa všechny maminky a jejich děti se těší lektorka \nLucie Šulcová.  \n\n\n\n\n\n			\n				\n				\n				\n				\n				Každé úterý 9:30–11:00 hod.\n			\n				\n				\n				\n				\n				\n			\n			\n				\n				\n				\n				\n			\n				\n				\n				\n				\n				\n				\n			\n				\n				\n				\n				\n			\n				\n				\n				\n				\n				\n				\n			\n				\n				\n				\n				\n				\n				KALENDÁŘ AKCÍ
URL:https://www.kulturachaberskydvur.cz/event/dvorecek-144/
CATEGORIES:kulturní akce
ATTACH;FMTTYPE=image/png:https://www.kulturachaberskydvur.cz/wp-content/uploads/2020/08/drak_pruhledne_pozadi_324x180.png
END:VEVENT
BEGIN:VEVENT
DTSTART;TZID=Europe/Prague:20260317T193000
DTEND;TZID=Europe/Prague:20260317T193000
DTSTAMP:20260420T091938
CREATED:20260218T121524Z
LAST-MODIFIED:20260218T121528Z
UID:11252-1773775800-1773775800@www.kulturachaberskydvur.cz
SUMMARY:Festival amatérských divadel: Pípa platí – Blbec k večeři
DESCRIPTION:Festival amatérských divadel: Pípa platí – Blbec k večeři \n			\n				\n				\n				\n				\n				\n\n\nStudio D vás zve na Březnový festival amatérských divadel v Dolních Chabrech. \nV úterý 17. března 2026 od 19:30 hodin se můžete těšit na divadelní soubor Pípa platí s hrou Blbec k večeři. \nČeká vás nesoutěžní přátelské setkání amatérských souborů v Chaberském dvoře na Hrušovanském náměstí 253/5 v Dolních Chabrech. \nVstupenky na jednotlivá představení budou v prodeji od 3. února v pokladně Chaberského dvora za 150 Kč (100 Kč senioři) na jednotlivá představení. Telefon pro rezervaci: 283 852 858. \nAnotace:\nGurmánská komedie na cizí účet! Ze všeho nejhorší je srážka s blbcem. Jenže co když si pozvete blbce až k sobě domů? To se potom může stát\, že on udělá blbce z vás. Protože i takový blbec má srdce. \nJeden večer\, jeden pařížský byt a jeden blbec na večeři. Je naprosto jisté\, že Pierre na tuhle noc do smrti nezapomene. Protože\, kdo jinému jámu kopá\, sám do ní padá. A kdo se směje naposled\, ten se směje nejlíp. \n\n\n\n			\n				\n				\n				\n				\n				17.03.2026 19:30 \n			\n			\n				\n				\n				\n				\n			\n				\n				\n				\n				\n				\n				\n			\n				\n				\n				\n				\n			\n				\n				\n				\n				\n				\n				\n			\n				\n				\n				\n				\n				\n				KALENDÁŘ AKCÍ
URL:https://www.kulturachaberskydvur.cz/event/festival-amaterskych-divadel-pipa-plati-blbec-k-veceri/
CATEGORIES:kulturní akce
ATTACH;FMTTYPE=image/png:https://www.kulturachaberskydvur.cz/wp-content/uploads/2026/02/ds_spolek_pipa_plati_17.03.2026.png
END:VEVENT
BEGIN:VEVENT
DTSTART;TZID=Europe/Prague:20260318T143000
DTEND;TZID=Europe/Prague:20260318T143000
DTSTAMP:20260420T091938
CREATED:20260218T124059Z
LAST-MODIFIED:20260218T124103Z
UID:11304-1773844200-1773844200@www.kulturachaberskydvur.cz
SUMMARY:Kavárnička Chaberský dvůr
DESCRIPTION:Kavárnička Chaberský dvůr \n			\n				\n				\n				\n				\n				\n\n\nU dobré kávy či čaje a něčeho drobného k zakousnutí se v rámci Kavárniček potkáme opět první a třetí středu v měsíci. tradičně od 14:30 hodin. \n\n\n\n			\n				\n				\n				\n				\n				tradičně od 14:30 hodin. \n			\n			\n				\n				\n				\n				\n			\n				\n				\n				\n				\n				\n				\n			\n				\n				\n				\n				\n			\n				\n				\n				\n				\n				\n				\n			\n				\n				\n				\n				\n				\n				KALENDÁŘ AKCÍ
URL:https://www.kulturachaberskydvur.cz/event/kavarnicka-chabersky-dvur-75/
CATEGORIES:kulturní akce
ATTACH;FMTTYPE=image/png:https://www.kulturachaberskydvur.cz/wp-content/uploads/2026/02/Kavarnicky-brezen-2026.png
END:VEVENT
BEGIN:VEVENT
DTSTART;TZID=Europe/Prague:20260319T193000
DTEND;TZID=Europe/Prague:20260319T193000
DTSTAMP:20260420T091938
CREATED:20260218T121814Z
LAST-MODIFIED:20260218T121820Z
UID:11258-1773948600-1773948600@www.kulturachaberskydvur.cz
SUMMARY:Festival amatérských divadel: DIVSE – Tonka Šibenice
DESCRIPTION:Festival amatérských divadel: DIVSE – Tonka Šibenice \n			\n				\n				\n				\n				\n				\n\n\nStudio D vás zve na Březnový festival amatérských divadel v Dolních Chabrech. \nVe čtvrtek 19. března 2026 od 19:30 hodin se můžete těšit na divadelní soubor DIVSE s hrou Tonka Šibenice. \nČeká vás nesoutěžní přátelské setkání amatérských souborů v Chaberském dvoře na Hrušovanském náměstí 253/5 v Dolních Chabrech. \nVstupenky na jednotlivá představení budou v prodeji od 3. února v pokladně Chaberského dvora za 150 Kč (100 Kč senioři) na jednotlivá představení. Telefon pro rezervaci: 283 852 858. \nAnotace:\nTonka Šibenice aneb pravdivý příběh lehké holky s dobrým srdcem. Podle předlohy hry M. Macourka a povídky E. E. Kische upravila Jolana Petříková. Legendární příběh známé pražské prostitutky Antonie Havlové\, řečené Tonky Šibenice\, která stanula u Posledního Soudu\, kde se rozhoduje o jejím životě a její cestě do ráje\, nebo do věčného zatracení… Několikrát soudně trestaná prostitutka\, která strávila noc s příšerným vrahem Prokůpkem před jeho oběšením\, aby splnila jeho poslední přání\, je skutečná postava pražské galerky. Vyprávění jejího životního příběhu je připomenutím\, že nemáme nikoho soudit\, pokud neznáme pozadí jeho činů. \n\n\n\n			\n				\n				\n				\n				\n				19.03.2026 19:30 \n			\n			\n				\n				\n				\n				\n			\n				\n				\n				\n				\n				\n				\n			\n				\n				\n				\n				\n			\n				\n				\n				\n				\n				\n				\n			\n				\n				\n				\n				\n				\n				KALENDÁŘ AKCÍ
URL:https://www.kulturachaberskydvur.cz/event/festival-amaterskych-divadel-divse-tonka-sibenice/
CATEGORIES:kulturní akce
ATTACH;FMTTYPE=image/png:https://www.kulturachaberskydvur.cz/wp-content/uploads/2026/02/ds_divse_19.03.2026.png
END:VEVENT
BEGIN:VEVENT
DTSTART;TZID=Europe/Prague:20260321T150000
DTEND;TZID=Europe/Prague:20260321T150000
DTSTAMP:20260420T091938
CREATED:20260218T125020Z
LAST-MODIFIED:20260218T125026Z
UID:11306-1774105200-1774105200@www.kulturachaberskydvur.cz
SUMMARY:Pohádka: Čert tě vem!
DESCRIPTION:Pohádka: Čert tě vem!  \n			\n				\n				\n				\n				\n				\n\n\nPOZOR! ACHTUNG! UWAGA! Do vašeho města právě přijelo věhlasné divadlo „Theatro Kumpáno“\, aby vám zahrálo strhující příběhy o Chamtivosti\, Lenosti a Obžerství. Nebojte se\, nezapomeneme ani na Chtíč\, dámy a pánové. Taky vás čeká Závist\, stará jako lidstvo samo. A co uvidíte dál? No ano\, Hněv. A naše skvělá Hněvna. Že nevíte\, co\, nebo kdo to je? Nebojte se\, poznáte! Ve všech rolích se vám představí spanilá Elfrída a nepřekonatelný Karlo Kumpáno. Chybí vám ještě něco? Je to tak. Pýcha. Ta dokáže zamotat lidské osudy. Třeba ten Karla a Elfrídy? Chcete vědět\, jak to dopadne? Tak neváhejte\, vstupte a navštivte světoznámé THEATRO KUMPÁNO! Pohádka o lidských neřestech a taky trošku o lásce pro děti od 6 let a jejich dospělé. Divadlo LOKVAR\, délka 60 min.\, Velký sál\, bez rezervace\, vstupné 50 Kč. \n\n\n\n			\n				\n				\n				\n				\n				21. 3. so 15:00 \n			\n			\n				\n				\n				\n				\n			\n				\n				\n				\n				\n				\n				\n			\n				\n				\n				\n				\n			\n				\n				\n				\n				\n				\n				\n			\n				\n				\n				\n				\n				\n				KALENDÁŘ AKCÍ
URL:https://www.kulturachaberskydvur.cz/event/pohadka-cert-te-vem/
CATEGORIES:kulturní akce
ATTACH;FMTTYPE=image/jpeg:https://www.kulturachaberskydvur.cz/wp-content/uploads/2026/02/MTF_0020.jpg
END:VEVENT
BEGIN:VEVENT
DTSTART;TZID=Europe/Prague:20260324T180000
DTEND;TZID=Europe/Prague:20260324T180000
DTSTAMP:20260420T091938
CREATED:20260218T122741Z
LAST-MODIFIED:20260218T122747Z
UID:11275-1774375200-1774375200@www.kulturachaberskydvur.cz
SUMMARY:K smrti dobrý kafe
DESCRIPTION:K smrti dobrý kafe \n			\n				\n				\n				\n				\n				\n\n\nPřipravili jsme pro vás další otevřené neformální setkání inspirované celosvětově známým konceptem Death Cafe. V období začínajícího jara si nad šálkem teplého nápoje otevřeně promluvíme o ztrátách v našich životech. Jaká témata vyplynou z potřeby skupiny tentokrát? Večerem provede Adéla Šlapáková\, facilitátorka setkání. Skvělá příležitost potkat se a podělit se o své myšlenky\, zkušenosti i otázky v bezpečném a respektujícím prostředí. K tomu si dáme dobrou kávu nebo jiný nápoj a něco dobrého na zub.Setkání není přednáškou\, terapeutickou skupinou ani zdrojem podpory pro pozůstalé či truchlící. Není tedy vhodné pro osoby\, kteří aktuálně prochází ztrátou. Přijďte si pohovořit nad šálkem kávy\, případné dotazy na: adela.slapakova@email.cz.  \n\n\n\n			\n				\n				\n				\n				\n				24. 3. út 18:00 hod.  \n			\n			\n				\n				\n				\n				\n			\n				\n				\n				\n				\n				\n				\n			\n				\n				\n				\n				\n			\n				\n				\n				\n				\n				\n				\n			\n				\n				\n				\n				\n				\n				KALENDÁŘ AKCÍ
URL:https://www.kulturachaberskydvur.cz/event/k-smrti-dobry-kafe-2/
CATEGORIES:kulturní akce
ATTACH;FMTTYPE=image/png:https://www.kulturachaberskydvur.cz/wp-content/uploads/2026/02/K-smrti-dobry-kafe-2.png
END:VEVENT
BEGIN:VEVENT
DTSTART;TZID=Europe/Prague:20260325T160000
DTEND;TZID=Europe/Prague:20260325T160000
DTSTAMP:20260420T091938
CREATED:20260218T122541Z
LAST-MODIFIED:20260218T122545Z
UID:11271-1774454400-1774454400@www.kulturachaberskydvur.cz
SUMMARY:Pletky
DESCRIPTION:Pletky \n			\n				\n				\n				\n				\n				\n\n\nPletky jsou zpět! Zveme pravidelné\, ale i nové zájemkyně\, které mají chuť přijít vyzkoušet pletení nebo háčkování ve společnosti ostatních. Přijďte se podělit o své zkušenosti\, nebo načerpat tvůrčí inspiraci pro další tvoření. Scházet ke společnému pletení se budeme od 16:00 hodin. \nNeformální setkání u pletení a háčkování s Evou KalenskouPřízemí KC. Vlastní materiál a pomůcky. \n\n\n\n			\n				\n				\n				\n				\n				25. 3. st 16:00 hod. \n			\n			\n				\n				\n				\n				\n			\n				\n				\n				\n				\n				\n				\n			\n				\n				\n				\n				\n			\n				\n				\n				\n				\n				\n				\n			\n				\n				\n				\n				\n				\n				KALENDÁŘ AKCÍ
URL:https://www.kulturachaberskydvur.cz/event/pletky-8/
CATEGORIES:kulturní akce
ATTACH;FMTTYPE=image/png:https://www.kulturachaberskydvur.cz/wp-content/uploads/2026/02/Pletky.png
END:VEVENT
BEGIN:VEVENT
DTSTART;TZID=Europe/Prague:20260326T190000
DTEND;TZID=Europe/Prague:20260326T190000
DTSTAMP:20260420T091938
CREATED:20260218T122015Z
LAST-MODIFIED:20260218T122021Z
UID:11264-1774551600-1774551600@www.kulturachaberskydvur.cz
SUMMARY:Festival amatérských divadel: Slavnostní zakončení festivalu a Studio D – Dokonalá svatba
DESCRIPTION:Festival amatérských divadel: Slavnostní zakončení festivalu a Studio D – Dokonalá svatba \n			\n				\n				\n				\n				\n				\n\n\nStudio D vás zve na Březnový festival amatérských divadel v Dolních Chabrech. \nVe čtvrtek 26. března 2026 od 19:00 hodin proběhne Slavnostní zakončení festivalu a představí se domácí Studio D s hrou Dokonalá svatba. \nČeká vás nesoutěžní přátelské setkání amatérských souborů v Chaberském dvoře na Hrušovanském náměstí 253/5 v Dolních Chabrech. \nVstupenky na jednotlivá představení budou v prodeji od 3. února v pokladně Chaberského dvora za 150 Kč (100 Kč senioři) na jednotlivá představení. Telefon pro rezervaci: 283 852 858. \nAnotace:\nPanika před svatbou\, následky alkoholového večírku a chaos vrcholí… Co zbude z dokonalé svatby? Domácí divadelní soubor Studio D si připravil na závěr festivalu vydařenou komedii. \n\n\n\n			\n				\n				\n				\n				\n				26.03.2026 19:00 \n			\n			\n				\n				\n				\n				\n			\n				\n				\n				\n				\n				\n				\n			\n				\n				\n				\n				\n			\n				\n				\n				\n				\n				\n				\n			\n				\n				\n				\n				\n				\n				KALENDÁŘ AKCÍ
URL:https://www.kulturachaberskydvur.cz/event/festival-amaterskych-divadel-slavnostni-zakonceni-festivalu-a-studio-d-dokonala-svatba/
CATEGORIES:kulturní akce
ATTACH;FMTTYPE=image/png:https://www.kulturachaberskydvur.cz/wp-content/uploads/2026/02/studio_d_26.03.2026.png
END:VEVENT
BEGIN:VEVENT
DTSTART;VALUE=DATE:20260331
DTEND;VALUE=DATE:20260401
DTSTAMP:20260420T091938
CREATED:20260218T114215Z
LAST-MODIFIED:20260218T114219Z
UID:11222-1774915200-1775001599@www.kulturachaberskydvur.cz
SUMMARY:Dvoreček
DESCRIPTION:DVOREČEK \n			\n				\n				\n				\n				\n				\n\n\n\n\nDvoreček probíhá v Chaberském dvoře pravidelně každé úterý dopoledne 9:30–11:00 hod. Prosíme maminky o respektování včasného příchodu v 9:30 hod. \nŠedesátiminutový program nabídne pro děti ve věku 2–4 roky možnost naučit se společně říkadlům a písničkám za pomoci hudebních nástrojů a v přítomnosti svého doprovodu. V pestrém programu nechybí ani protahovací cvičení ani oblíbená výtvarná dílna. Bačkůrky a dobrou náladu sebou. \nRezervace míst je v současné době nutná vzhledem k omezené kapacitě účastníků. Přihlašování na Facebooku ve skupině „Dvorečky Chaberský dvůr“. Vstupné 50 Kč za dítě. \nhttps://www.facebook.com/groups/576374453498345/ \nNa všechny maminky a jejich děti se těší lektorka \nLucie Šulcová.  \n\n\n\n\n\n			\n				\n				\n				\n				\n				Každé úterý 9:30–11:00 hod.\n			\n				\n				\n				\n				\n				\n			\n			\n				\n				\n				\n				\n			\n				\n				\n				\n				\n				\n				\n			\n				\n				\n				\n				\n			\n				\n				\n				\n				\n				\n				\n			\n				\n				\n				\n				\n				\n				KALENDÁŘ AKCÍ
URL:https://www.kulturachaberskydvur.cz/event/dvorecek-145/
CATEGORIES:kulturní akce
ATTACH;FMTTYPE=image/png:https://www.kulturachaberskydvur.cz/wp-content/uploads/2020/08/drak_pruhledne_pozadi_324x180.png
END:VEVENT
END:VCALENDAR