BEGIN:VCALENDAR
VERSION:2.0
PRODID:-//KNIHOVNA, KULTURNÍ CENTRUM CHABERSKÝ DVŮR - ECPv6.15.20//NONSGML v1.0//EN
CALSCALE:GREGORIAN
METHOD:PUBLISH
X-ORIGINAL-URL:https://www.kulturachaberskydvur.cz
X-WR-CALDESC:Akce na KNIHOVNA, KULTURNÍ CENTRUM CHABERSKÝ DVŮR
REFRESH-INTERVAL;VALUE=DURATION:PT1H
X-Robots-Tag:noindex
X-PUBLISHED-TTL:PT1H
BEGIN:VTIMEZONE
TZID:Europe/Prague
BEGIN:DAYLIGHT
TZOFFSETFROM:+0100
TZOFFSETTO:+0200
TZNAME:CEST
DTSTART:20250330T010000
END:DAYLIGHT
BEGIN:STANDARD
TZOFFSETFROM:+0200
TZOFFSETTO:+0100
TZNAME:CET
DTSTART:20251026T010000
END:STANDARD
BEGIN:DAYLIGHT
TZOFFSETFROM:+0100
TZOFFSETTO:+0200
TZNAME:CEST
DTSTART:20260329T010000
END:DAYLIGHT
BEGIN:STANDARD
TZOFFSETFROM:+0200
TZOFFSETTO:+0100
TZNAME:CET
DTSTART:20261025T010000
END:STANDARD
BEGIN:DAYLIGHT
TZOFFSETFROM:+0100
TZOFFSETTO:+0200
TZNAME:CEST
DTSTART:20270328T010000
END:DAYLIGHT
BEGIN:STANDARD
TZOFFSETFROM:+0200
TZOFFSETTO:+0100
TZNAME:CET
DTSTART:20271031T010000
END:STANDARD
END:VTIMEZONE
BEGIN:VEVENT
DTSTART;TZID=Europe/Prague:20260429T180000
DTEND;TZID=Europe/Prague:20260429T180000
DTSTAMP:20260420T091936
CREATED:20260320T090739Z
LAST-MODIFIED:20260320T090747Z
UID:11595-1777485600-1777485600@www.kulturachaberskydvur.cz
SUMMARY:Přednáška: Co se děje za displejem
DESCRIPTION:Přednáška: Rodičovství v digitální době. Co se děje za displejem?  \n			\n				\n				\n				\n				\n				\n\n\n\n\nInternet je přirozenou součástí života našich dětí – učí se v něm\, baví se i navazují vztahy. Jaká rizika dnes skutečně řeší? Jak s nimi o online světe komunikovat? A jak do jejich světa vstupuje umělá inteligence? Beseda nabídne srozumitelný přehled aktuálních rizik\, nejvyužívanějších sociálních sítí\, praktické tipy do rodiny i prostor pro otázky a sdílení zkušeností. \nMgr. Tereza Faladová\, gestorka prevence kybernetické kriminality odboru prevence kriminality Ministerstva vnitra\, se věnuje systematické prevenci kriminality se zaměřením na aktuální hrozby v online prostředí. V rámci své gesce rozvíjí přístupy k prevenci kyberkriminality\, podílí se na tvorbě metodických a vzdělávacích materiálů a preventivních kampaní zaměřených na širokou veřejnost a spolupracuje s odborníky z veřejné správy\, akademické i soukromé sféry i bezpečnostních složek na zvyšování digitální gramotnosti a bezpečnosti. \nKnihovna\, vhodné pro rodiče\, vstup zdarma. \nAlena Wachtlová \n\n\n\n\n\n			\n				\n				\n				\n				\n				29. 4. st 18:00 hod. \n			\n			\n				\n				\n				\n				\n			\n				\n				\n				\n				\n				\n				\n			\n				\n				\n				\n				\n			\n				\n				\n				\n				\n				\n				\n			\n				\n				\n				\n				\n				\n				KALENDÁŘ AKCÍ
URL:https://www.kulturachaberskydvur.cz/event/prednaska-co-se-deje-za-displejem/
CATEGORIES:kulturní akce
ATTACH;FMTTYPE=image/png:https://www.kulturachaberskydvur.cz/wp-content/uploads/2026/03/PREDNASKA-AI.png
END:VEVENT
END:VCALENDAR